BEGIN:VCALENDAR
VERSION:2.0
PRODID:-//MDS UK Patient Support Group - ECPv6.14.1//NONSGML v1.0//EN
CALSCALE:GREGORIAN
METHOD:PUBLISH
X-WR-CALNAME:MDS UK Patient Support Group
X-ORIGINAL-URL:https://mdspatientsupport.org.uk
X-WR-CALDESC:Events for MDS UK Patient Support Group
REFRESH-INTERVAL;VALUE=DURATION:PT1H
X-Robots-Tag:noindex
X-PUBLISHED-TTL:PT1H
BEGIN:VTIMEZONE
TZID:Europe/London
BEGIN:DAYLIGHT
TZOFFSETFROM:+0000
TZOFFSETTO:+0100
TZNAME:BST
DTSTART:20190331T010000
END:DAYLIGHT
BEGIN:STANDARD
TZOFFSETFROM:+0100
TZOFFSETTO:+0000
TZNAME:GMT
DTSTART:20191027T010000
END:STANDARD
END:VTIMEZONE
BEGIN:VEVENT
DTSTART;TZID=Europe/London:20191213T140000
DTEND;TZID=Europe/London:20191213T163000
DTSTAMP:20260422T233818
CREATED:20191115T105031Z
LAST-MODIFIED:20191115T105303Z
UID:20754-1576245600-1576254600@mdspatientsupport.org.uk
SUMMARY:Essex MDS UK Local Patient Meeting – 13/12/19
DESCRIPTION:GREATER LONDON SUPPORT GROUP MEETINGS\nPATIENTS & FAMILIES LOCAL SUPPORT GROUP MEETINGS FOR THOSE AFFECTED BY MDS-AA–AML\nPatients and families are invited to attend the Myelodysplastic Syndromes & Aplastic Anaemia & Acute Myeloid Leukaemia local support group meetings for the London area at King’s College Hospital London. \nThis is a greater London specific meeting. You do not need to be a King’s patient to attend. \nCome and talk to other patients and clinical staff\, get new information or help. \nMeetings are held after KCH clinics. \nTime: Monday 8th of July 3.30-6.30\nLocation: King’s College Hospital\, Cicely Saunders Building\, by Macmillan Information Unit \nThe group is supported and attended by AA & MDS Clinical Nurse Specialists: Simon Slade (AA)\, Geke Ong (MDS) and Janet Hayden (MDS).  \nIf you can\, please tell us if you are coming – this will help us to plan refreshments. \nSuggestions for talk topics welcome - this is YOUR group! \nLiving somewhere else? Have a look at all MDS UK local groups \nMDS UK Main Office:\n0207 733 7558\nadmin1@mdspatientsupport.org.uk
URL:https://mdspatientsupport.org.uk/event/essex-mds-uk-local-patient-meeting-13-12-19/
LOCATION:Essex Local Group\, Broomfield Village Hall\, 158 Main Road\, Broomfield\, Chelmsford\, CM1 7AH\, United Kingdom
CATEGORIES:Patient Meetings
ATTACH;FMTTYPE=image/jpeg:https://mdspatientsupport.org.uk/wp-content/uploads/2016/05/Essex-Group.jpg
END:VEVENT
BEGIN:VEVENT
DTSTART;TZID=Europe/London:20191206T103000
DTEND;TZID=Europe/London:20191206T123000
DTSTAMP:20260422T233818
CREATED:20181030T143132Z
LAST-MODIFIED:20181030T143133Z
UID:16126-1575628200-1575635400@mdspatientsupport.org.uk
SUMMARY:Oxford MDS UK Local Patient Meeting – 06/12/19
DESCRIPTION:GREATER LONDON SUPPORT GROUP MEETINGS\nPATIENTS & FAMILIES LOCAL SUPPORT GROUP MEETINGS FOR THOSE AFFECTED BY MDS-AA–AML\nPatients and families are invited to attend the Myelodysplastic Syndromes & Aplastic Anaemia & Acute Myeloid Leukaemia local support group meetings for the London area at King’s College Hospital London. \nThis is a greater London specific meeting. You do not need to be a King’s patient to attend. \nCome and talk to other patients and clinical staff\, get new information or help. \nMeetings are held after KCH clinics. \nTime: Monday 8th of July 3.30-6.30\nLocation: King’s College Hospital\, Cicely Saunders Building\, by Macmillan Information Unit \nThe group is supported and attended by AA & MDS Clinical Nurse Specialists: Simon Slade (AA)\, Geke Ong (MDS) and Janet Hayden (MDS).  \nIf you can\, please tell us if you are coming – this will help us to plan refreshments. \nSuggestions for talk topics welcome - this is YOUR group! \nLiving somewhere else? Have a look at all MDS UK local groups \nMDS UK Main Office:\n0207 733 7558\nadmin1@mdspatientsupport.org.uk
URL:https://mdspatientsupport.org.uk/event/oxford-mds-uk-local-patient-meeting-06-12-19/
LOCATION:Oxford MDS UK Local Group\, Maggie's Oxford Centre\, Churchill Hospital\, Old Road\, Oxford\, OX3 7LE\, United Kingdom
CATEGORIES:Patient Meetings
ATTACH;FMTTYPE=image/jpeg:https://mdspatientsupport.org.uk/wp-content/uploads/2017/01/Oxford-MDS-UK-Group.jpg
END:VEVENT
BEGIN:VEVENT
DTSTART;TZID=Europe/London:20191122T103000
DTEND;TZID=Europe/London:20191122T123000
DTSTAMP:20260422T233818
CREATED:20191002T075425Z
LAST-MODIFIED:20191121T063316Z
UID:20508-1574418600-1574425800@mdspatientsupport.org.uk
SUMMARY:Join the very first meeting of our new Midlands Local Group on the 22nd November
DESCRIPTION:GREATER LONDON SUPPORT GROUP MEETINGS\nPATIENTS & FAMILIES LOCAL SUPPORT GROUP MEETINGS FOR THOSE AFFECTED BY MDS-AA–AML\nPatients and families are invited to attend the Myelodysplastic Syndromes & Aplastic Anaemia & Acute Myeloid Leukaemia local support group meetings for the London area at King’s College Hospital London. \nThis is a greater London specific meeting. You do not need to be a King’s patient to attend. \nCome and talk to other patients and clinical staff\, get new information or help. \nMeetings are held after KCH clinics. \nTime: Monday 8th of July 3.30-6.30\nLocation: King’s College Hospital\, Cicely Saunders Building\, by Macmillan Information Unit \nThe group is supported and attended by AA & MDS Clinical Nurse Specialists: Simon Slade (AA)\, Geke Ong (MDS) and Janet Hayden (MDS).  \nIf you can\, please tell us if you are coming – this will help us to plan refreshments. \nSuggestions for talk topics welcome - this is YOUR group! \nLiving somewhere else? Have a look at all MDS UK local groups \nMDS UK Main Office:\n0207 733 7558\nadmin1@mdspatientsupport.org.uk
URL:https://mdspatientsupport.org.uk/event/meeting-midlands-local-group-22nd-november/
LOCATION:Midlands Support Group\, Queen Elizabeth Hospital Birmingham\, Birmingham\, Birmingham\, B15 2GW\, United Kingdom
CATEGORIES:Patient Meetings
ATTACH;FMTTYPE=image/jpeg:https://mdspatientsupport.org.uk/wp-content/uploads/2019/10/Queen_Elizabeth_Hospital_Birmingham_Edgbaston_Birmingham_England-7March2011.jpg
END:VEVENT
BEGIN:VEVENT
DTSTART;TZID=Europe/London:20191118T153000
DTEND;TZID=Europe/London:20191118T183000
DTSTAMP:20260422T233818
CREATED:20190210T131721Z
LAST-MODIFIED:20190210T132541Z
UID:17132-1574091000-1574101800@mdspatientsupport.org.uk
SUMMARY:Greater London Support Group Meeting MDS-AA–AML 18/11/2019
DESCRIPTION:GREATER LONDON SUPPORT GROUP MEETINGS\nPATIENTS & FAMILIES LOCAL SUPPORT GROUP MEETINGS FOR THOSE AFFECTED BY MDS-AA–AML\nPatients and families are invited to attend the Myelodysplastic Syndromes & Aplastic Anaemia & Acute Myeloid Leukaemia local support group meetings for the London area at King’s College Hospital London. \nThis is a greater London specific meeting. You do not need to be a King’s patient to attend. \nCome and talk to other patients and clinical staff\, get new information or help. \nMeetings are held after KCH clinics. \nTime: Monday 8th of July 3.30-6.30\nLocation: King’s College Hospital\, Cicely Saunders Building\, by Macmillan Information Unit \nThe group is supported and attended by AA & MDS Clinical Nurse Specialists: Simon Slade (AA)\, Geke Ong (MDS) and Janet Hayden (MDS).  \nIf you can\, please tell us if you are coming – this will help us to plan refreshments. \nSuggestions for talk topics welcome - this is YOUR group! \nLiving somewhere else? Have a look at all MDS UK local groups \nMDS UK Main Office:\n0207 733 7558\nadmin1@mdspatientsupport.org.uk
URL:https://mdspatientsupport.org.uk/event/greater-london-support-group-meeting-mds-aa-aml-18-11-2019/
LOCATION:Kings College Hospital – Weston Education Centre\, King's College Hospital\, Weston Education Centre\, Cutcombe Road\, London\, SE5 9RJ\, United Kingdom
CATEGORIES:Patient Meetings
ATTACH;FMTTYPE=image/png:https://mdspatientsupport.org.uk/wp-content/uploads/2019/02/weston-education-centre.png
END:VEVENT
BEGIN:VEVENT
DTSTART;TZID=Europe/London:20191112T103000
DTEND;TZID=Europe/London:20191112T130000
DTSTAMP:20260422T233818
CREATED:20190604T082906Z
LAST-MODIFIED:20190604T082908Z
UID:19371-1573554600-1573563600@mdspatientsupport.org.uk
SUMMARY:Bournemouth MDS UK Local Patient Meeting – 12/11/19
DESCRIPTION:GREATER LONDON SUPPORT GROUP MEETINGS\nPATIENTS & FAMILIES LOCAL SUPPORT GROUP MEETINGS FOR THOSE AFFECTED BY MDS-AA–AML\nPatients and families are invited to attend the Myelodysplastic Syndromes & Aplastic Anaemia & Acute Myeloid Leukaemia local support group meetings for the London area at King’s College Hospital London. \nThis is a greater London specific meeting. You do not need to be a King’s patient to attend. \nCome and talk to other patients and clinical staff\, get new information or help. \nMeetings are held after KCH clinics. \nTime: Monday 8th of July 3.30-6.30\nLocation: King’s College Hospital\, Cicely Saunders Building\, by Macmillan Information Unit \nThe group is supported and attended by AA & MDS Clinical Nurse Specialists: Simon Slade (AA)\, Geke Ong (MDS) and Janet Hayden (MDS).  \nIf you can\, please tell us if you are coming – this will help us to plan refreshments. \nSuggestions for talk topics welcome - this is YOUR group! \nLiving somewhere else? Have a look at all MDS UK local groups \nMDS UK Main Office:\n0207 733 7558\nadmin1@mdspatientsupport.org.uk
URL:https://mdspatientsupport.org.uk/event/bournemouth-mds-uk-local-patient-meeting-12-11-19/
LOCATION:Bournemouth MDS UK Local Group\, The Grove Hotel\, 2 Grove Road\, East Cliff\,\, Bounemouth\, Dorset\, BH1 3AU\, United Kingdom
CATEGORIES:Patient Meetings
ATTACH;FMTTYPE=image/jpeg:https://mdspatientsupport.org.uk/wp-content/uploads/2016/06/events-bournemouth-mds-group.jpg
END:VEVENT
BEGIN:VEVENT
DTSTART;TZID=Europe/London:20191111T103000
DTEND;TZID=Europe/London:20191111T120000
DTSTAMP:20260422T233818
CREATED:20181030T144800Z
LAST-MODIFIED:20190715T084825Z
UID:16141-1573468200-1573473600@mdspatientsupport.org.uk
SUMMARY:Anglia MDS UK Local Patient Meeting – 11/11/2019
DESCRIPTION:GREATER LONDON SUPPORT GROUP MEETINGS\nPATIENTS & FAMILIES LOCAL SUPPORT GROUP MEETINGS FOR THOSE AFFECTED BY MDS-AA–AML\nPatients and families are invited to attend the Myelodysplastic Syndromes & Aplastic Anaemia & Acute Myeloid Leukaemia local support group meetings for the London area at King’s College Hospital London. \nThis is a greater London specific meeting. You do not need to be a King’s patient to attend. \nCome and talk to other patients and clinical staff\, get new information or help. \nMeetings are held after KCH clinics. \nTime: Monday 8th of July 3.30-6.30\nLocation: King’s College Hospital\, Cicely Saunders Building\, by Macmillan Information Unit \nThe group is supported and attended by AA & MDS Clinical Nurse Specialists: Simon Slade (AA)\, Geke Ong (MDS) and Janet Hayden (MDS).  \nIf you can\, please tell us if you are coming – this will help us to plan refreshments. \nSuggestions for talk topics welcome - this is YOUR group! \nLiving somewhere else? Have a look at all MDS UK local groups \nMDS UK Main Office:\n0207 733 7558\nadmin1@mdspatientsupport.org.uk
URL:https://mdspatientsupport.org.uk/event/anglia-mds-uk-local-patient-meeting-11-11-2019/
LOCATION:Anglia MDS UK Local Patient Group\, Cambridge Cancer Help Centre\, Scotsdales Garden Centre\,\, 120 Cambridge Road\, Cambridge\, CB22 5JT\, United Kingdom
CATEGORIES:Patient Meetings
ATTACH;FMTTYPE=image/jpeg:https://mdspatientsupport.org.uk/wp-content/uploads/2016/06/events-anglia-mds-group.jpg
END:VEVENT
BEGIN:VEVENT
DTSTART;TZID=Europe/London:20191023T100000
DTEND;TZID=Europe/London:20191023T130000
DTSTAMP:20260422T233818
CREATED:20190924T154336Z
LAST-MODIFIED:20190924T154336Z
UID:20470-1571824800-1571835600@mdspatientsupport.org.uk
SUMMARY:Southampton Region MDS Support Group Meeting 23/10/19
DESCRIPTION:GREATER LONDON SUPPORT GROUP MEETINGS\nPATIENTS & FAMILIES LOCAL SUPPORT GROUP MEETINGS FOR THOSE AFFECTED BY MDS-AA–AML\nPatients and families are invited to attend the Myelodysplastic Syndromes & Aplastic Anaemia & Acute Myeloid Leukaemia local support group meetings for the London area at King’s College Hospital London. \nThis is a greater London specific meeting. You do not need to be a King’s patient to attend. \nCome and talk to other patients and clinical staff\, get new information or help. \nMeetings are held after KCH clinics. \nTime: Monday 8th of July 3.30-6.30\nLocation: King’s College Hospital\, Cicely Saunders Building\, by Macmillan Information Unit \nThe group is supported and attended by AA & MDS Clinical Nurse Specialists: Simon Slade (AA)\, Geke Ong (MDS) and Janet Hayden (MDS).  \nIf you can\, please tell us if you are coming – this will help us to plan refreshments. \nSuggestions for talk topics welcome - this is YOUR group! \nLiving somewhere else? Have a look at all MDS UK local groups \nMDS UK Main Office:\n0207 733 7558\nadmin1@mdspatientsupport.org.uk
URL:https://mdspatientsupport.org.uk/event/southampton-region-mds-support-group-meeting-23-10-19/
LOCATION:Southampton Local Group\, Ibis Southampton Centre Hotel\, Suite\, 9 W Quay Rd\, Southampton\, Lymington\, SO15 1RA\, United Kingdom
CATEGORIES:Patient Meetings
ATTACH;FMTTYPE=image/jpeg:https://mdspatientsupport.org.uk/wp-content/uploads/2019/09/Southampton-Support-Group-Meeting-October-2019.jpg
END:VEVENT
BEGIN:VEVENT
DTSTART;TZID=Europe/London:20190913T103000
DTEND;TZID=Europe/London:20190913T123000
DTSTAMP:20260422T233818
CREATED:20181030T142906Z
LAST-MODIFIED:20181030T143253Z
UID:16124-1568370600-1568377800@mdspatientsupport.org.uk
SUMMARY:Oxford MDS UK Local Patient Meeting – 13/09/19
DESCRIPTION:GREATER LONDON SUPPORT GROUP MEETINGS\nPATIENTS & FAMILIES LOCAL SUPPORT GROUP MEETINGS FOR THOSE AFFECTED BY MDS-AA–AML\nPatients and families are invited to attend the Myelodysplastic Syndromes & Aplastic Anaemia & Acute Myeloid Leukaemia local support group meetings for the London area at King’s College Hospital London. \nThis is a greater London specific meeting. You do not need to be a King’s patient to attend. \nCome and talk to other patients and clinical staff\, get new information or help. \nMeetings are held after KCH clinics. \nTime: Monday 8th of July 3.30-6.30\nLocation: King’s College Hospital\, Cicely Saunders Building\, by Macmillan Information Unit \nThe group is supported and attended by AA & MDS Clinical Nurse Specialists: Simon Slade (AA)\, Geke Ong (MDS) and Janet Hayden (MDS).  \nIf you can\, please tell us if you are coming – this will help us to plan refreshments. \nSuggestions for talk topics welcome - this is YOUR group! \nLiving somewhere else? Have a look at all MDS UK local groups \nMDS UK Main Office:\n0207 733 7558\nadmin1@mdspatientsupport.org.uk
URL:https://mdspatientsupport.org.uk/event/oxford-mds-uk-local-patient-meeting-13-09-19/
LOCATION:Oxford MDS UK Local Group\, Maggie's Oxford Centre\, Churchill Hospital\, Old Road\, Oxford\, OX3 7LE\, United Kingdom
CATEGORIES:Patient Meetings
ATTACH;FMTTYPE=image/jpeg:https://mdspatientsupport.org.uk/wp-content/uploads/2017/01/Oxford-MDS-UK-Group.jpg
END:VEVENT
BEGIN:VEVENT
DTSTART;TZID=Europe/London:20190909T103000
DTEND;TZID=Europe/London:20190909T120000
DTSTAMP:20260422T233818
CREATED:20181030T144535Z
LAST-MODIFIED:20181030T144956Z
UID:16139-1568025000-1568030400@mdspatientsupport.org.uk
SUMMARY:Anglia MDS UK Local Patient Meeting – 09/09/2019
DESCRIPTION:GREATER LONDON SUPPORT GROUP MEETINGS\nPATIENTS & FAMILIES LOCAL SUPPORT GROUP MEETINGS FOR THOSE AFFECTED BY MDS-AA–AML\nPatients and families are invited to attend the Myelodysplastic Syndromes & Aplastic Anaemia & Acute Myeloid Leukaemia local support group meetings for the London area at King’s College Hospital London. \nThis is a greater London specific meeting. You do not need to be a King’s patient to attend. \nCome and talk to other patients and clinical staff\, get new information or help. \nMeetings are held after KCH clinics. \nTime: Monday 8th of July 3.30-6.30\nLocation: King’s College Hospital\, Cicely Saunders Building\, by Macmillan Information Unit \nThe group is supported and attended by AA & MDS Clinical Nurse Specialists: Simon Slade (AA)\, Geke Ong (MDS) and Janet Hayden (MDS).  \nIf you can\, please tell us if you are coming – this will help us to plan refreshments. \nSuggestions for talk topics welcome - this is YOUR group! \nLiving somewhere else? Have a look at all MDS UK local groups \nMDS UK Main Office:\n0207 733 7558\nadmin1@mdspatientsupport.org.uk
URL:https://mdspatientsupport.org.uk/event/anglia-mds-uk-local-patient-meeting-09-09-2019/
LOCATION:Anglia MDS UK Local Patient Group\, Cambridge Cancer Help Centre\, Scotsdales Garden Centre\,\, 120 Cambridge Road\, Cambridge\, CB22 5JT\, United Kingdom
CATEGORIES:Patient Meetings
ATTACH;FMTTYPE=image/jpeg:https://mdspatientsupport.org.uk/wp-content/uploads/2016/06/events-anglia-mds-group.jpg
END:VEVENT
BEGIN:VEVENT
DTSTART;TZID=Europe/London:20190903T104500
DTEND;TZID=Europe/London:20190903T131500
DTSTAMP:20260422T233818
CREATED:20190724T145311Z
LAST-MODIFIED:20190724T145745Z
UID:20079-1567507500-1567516500@mdspatientsupport.org.uk
SUMMARY:Essex MDS UK Local Patient Meeting – 03/09/19
DESCRIPTION:GREATER LONDON SUPPORT GROUP MEETINGS\nPATIENTS & FAMILIES LOCAL SUPPORT GROUP MEETINGS FOR THOSE AFFECTED BY MDS-AA–AML\nPatients and families are invited to attend the Myelodysplastic Syndromes & Aplastic Anaemia & Acute Myeloid Leukaemia local support group meetings for the London area at King’s College Hospital London. \nThis is a greater London specific meeting. You do not need to be a King’s patient to attend. \nCome and talk to other patients and clinical staff\, get new information or help. \nMeetings are held after KCH clinics. \nTime: Monday 8th of July 3.30-6.30\nLocation: King’s College Hospital\, Cicely Saunders Building\, by Macmillan Information Unit \nThe group is supported and attended by AA & MDS Clinical Nurse Specialists: Simon Slade (AA)\, Geke Ong (MDS) and Janet Hayden (MDS).  \nIf you can\, please tell us if you are coming – this will help us to plan refreshments. \nSuggestions for talk topics welcome - this is YOUR group! \nLiving somewhere else? Have a look at all MDS UK local groups \nMDS UK Main Office:\n0207 733 7558\nadmin1@mdspatientsupport.org.uk
URL:https://mdspatientsupport.org.uk/event/essex-mds-uk-local-patient-meeting-03-09-19/
LOCATION:Essex Local Group\, Broomfield Village Hall\, 158 Main Road\, Broomfield\, Chelmsford\, CM1 7AH\, United Kingdom
CATEGORIES:Patient Meetings
ATTACH;FMTTYPE=image/jpeg:https://mdspatientsupport.org.uk/wp-content/uploads/2016/05/Essex-Group.jpg
END:VEVENT
BEGIN:VEVENT
DTSTART;TZID=Europe/London:20190716T103000
DTEND;TZID=Europe/London:20190716T130000
DTSTAMP:20260422T233818
CREATED:20190604T082326Z
LAST-MODIFIED:20190714T115046Z
UID:19369-1563273000-1563282000@mdspatientsupport.org.uk
SUMMARY:Bournemouth MDS UK Local Patient Meeting – 16/07/19
DESCRIPTION:GREATER LONDON SUPPORT GROUP MEETINGS\nPATIENTS & FAMILIES LOCAL SUPPORT GROUP MEETINGS FOR THOSE AFFECTED BY MDS-AA–AML\nPatients and families are invited to attend the Myelodysplastic Syndromes & Aplastic Anaemia & Acute Myeloid Leukaemia local support group meetings for the London area at King’s College Hospital London. \nThis is a greater London specific meeting. You do not need to be a King’s patient to attend. \nCome and talk to other patients and clinical staff\, get new information or help. \nMeetings are held after KCH clinics. \nTime: Monday 8th of July 3.30-6.30\nLocation: King’s College Hospital\, Cicely Saunders Building\, by Macmillan Information Unit \nThe group is supported and attended by AA & MDS Clinical Nurse Specialists: Simon Slade (AA)\, Geke Ong (MDS) and Janet Hayden (MDS).  \nIf you can\, please tell us if you are coming – this will help us to plan refreshments. \nSuggestions for talk topics welcome - this is YOUR group! \nLiving somewhere else? Have a look at all MDS UK local groups \nMDS UK Main Office:\n0207 733 7558\nadmin1@mdspatientsupport.org.uk
URL:https://mdspatientsupport.org.uk/event/bournemouth-mds-uk-local-patient-meeting-16-07-19/
LOCATION:Bournemouth MDS UK Local Group\, The Grove Hotel\, 2 Grove Road\, East Cliff\,\, Bounemouth\, Dorset\, BH1 3AU\, United Kingdom
CATEGORIES:Patient Meetings
ATTACH;FMTTYPE=image/jpeg:https://mdspatientsupport.org.uk/wp-content/uploads/2016/06/events-bournemouth-mds-group.jpg
END:VEVENT
BEGIN:VEVENT
DTSTART;TZID=Europe/London:20190708T153000
DTEND;TZID=Europe/London:20190708T183000
DTSTAMP:20260422T233818
CREATED:20190210T131004Z
LAST-MODIFIED:20190210T132426Z
UID:17122-1562599800-1562610600@mdspatientsupport.org.uk
SUMMARY:Greater London Support Group Meeting MDS-AA–AML 08/07/2019
DESCRIPTION:GREATER LONDON SUPPORT GROUP MEETINGS\nPATIENTS & FAMILIES LOCAL SUPPORT GROUP MEETINGS FOR THOSE AFFECTED BY MDS-AA–AML\nPatients and families are invited to attend the Myelodysplastic Syndromes & Aplastic Anaemia & Acute Myeloid Leukaemia local support group meetings for the London area at King’s College Hospital London. \nThis is a greater London specific meeting. You do not need to be a King’s patient to attend. \nCome and talk to other patients and clinical staff\, get new information or help. \nMeetings are held after KCH clinics. \nTime: Monday 8th of July 3.30-6.30\nLocation: King’s College Hospital\, Cicely Saunders Building\, by Macmillan Information Unit \nThe group is supported and attended by AA & MDS Clinical Nurse Specialists: Simon Slade (AA)\, Geke Ong (MDS) and Janet Hayden (MDS).  \nIf you can\, please tell us if you are coming – this will help us to plan refreshments. \nSuggestions for talk topics welcome - this is YOUR group! \nLiving somewhere else? Have a look at all MDS UK local groups \nMDS UK Main Office:\n0207 733 7558\nadmin1@mdspatientsupport.org.uk
URL:https://mdspatientsupport.org.uk/event/greater-london-support-group-meeting-mds-aa-aml-08-07-2019/
LOCATION:Kings College Hospital – Weston Education Centre\, King's College Hospital\, Weston Education Centre\, Cutcombe Road\, London\, SE5 9RJ\, United Kingdom
CATEGORIES:Patient Meetings
ATTACH;FMTTYPE=image/png:https://mdspatientsupport.org.uk/wp-content/uploads/2019/02/weston-education-centre.png
END:VEVENT
BEGIN:VEVENT
DTSTART;TZID=Europe/London:20190708T103000
DTEND;TZID=Europe/London:20190708T120000
DTSTAMP:20260422T233818
CREATED:20181030T144150Z
LAST-MODIFIED:20190603T144445Z
UID:16137-1562581800-1562587200@mdspatientsupport.org.uk
SUMMARY:Anglia MDS UK Local Patient Meeting – 08/07/2019
DESCRIPTION:GREATER LONDON SUPPORT GROUP MEETINGS\nPATIENTS & FAMILIES LOCAL SUPPORT GROUP MEETINGS FOR THOSE AFFECTED BY MDS-AA–AML\nPatients and families are invited to attend the Myelodysplastic Syndromes & Aplastic Anaemia & Acute Myeloid Leukaemia local support group meetings for the London area at King’s College Hospital London. \nThis is a greater London specific meeting. You do not need to be a King’s patient to attend. \nCome and talk to other patients and clinical staff\, get new information or help. \nMeetings are held after KCH clinics. \nTime: Monday 8th of July 3.30-6.30\nLocation: King’s College Hospital\, Cicely Saunders Building\, by Macmillan Information Unit \nThe group is supported and attended by AA & MDS Clinical Nurse Specialists: Simon Slade (AA)\, Geke Ong (MDS) and Janet Hayden (MDS).  \nIf you can\, please tell us if you are coming – this will help us to plan refreshments. \nSuggestions for talk topics welcome - this is YOUR group! \nLiving somewhere else? Have a look at all MDS UK local groups \nMDS UK Main Office:\n0207 733 7558\nadmin1@mdspatientsupport.org.uk
URL:https://mdspatientsupport.org.uk/event/anglia-mds-uk-local-patient-meeting-08-07-2019/
LOCATION:Anglia MDS UK Local Patient Group\, Cambridge Cancer Help Centre\, Scotsdales Garden Centre\,\, 120 Cambridge Road\, Cambridge\, CB22 5JT\, United Kingdom
CATEGORIES:Patient Meetings
ATTACH;FMTTYPE=image/jpeg:https://mdspatientsupport.org.uk/wp-content/uploads/2016/06/events-anglia-mds-group.jpg
END:VEVENT
BEGIN:VEVENT
DTSTART;TZID=Europe/London:20190626T100000
DTEND;TZID=Europe/London:20190626T130000
DTSTAMP:20260422T233818
CREATED:20190531T083357Z
LAST-MODIFIED:20190531T083607Z
UID:19159-1561543200-1561554000@mdspatientsupport.org.uk
SUMMARY:Southampton Region MDS Support Group Meeting 26/06/19
DESCRIPTION:GREATER LONDON SUPPORT GROUP MEETINGS\nPATIENTS & FAMILIES LOCAL SUPPORT GROUP MEETINGS FOR THOSE AFFECTED BY MDS-AA–AML\nPatients and families are invited to attend the Myelodysplastic Syndromes & Aplastic Anaemia & Acute Myeloid Leukaemia local support group meetings for the London area at King’s College Hospital London. \nThis is a greater London specific meeting. You do not need to be a King’s patient to attend. \nCome and talk to other patients and clinical staff\, get new information or help. \nMeetings are held after KCH clinics. \nTime: Monday 8th of July 3.30-6.30\nLocation: King’s College Hospital\, Cicely Saunders Building\, by Macmillan Information Unit \nThe group is supported and attended by AA & MDS Clinical Nurse Specialists: Simon Slade (AA)\, Geke Ong (MDS) and Janet Hayden (MDS).  \nIf you can\, please tell us if you are coming – this will help us to plan refreshments. \nSuggestions for talk topics welcome - this is YOUR group! \nLiving somewhere else? Have a look at all MDS UK local groups \nMDS UK Main Office:\n0207 733 7558\nadmin1@mdspatientsupport.org.uk
URL:https://mdspatientsupport.org.uk/event/southampton-region-mds-support-group-meeting-26-06-19/
LOCATION:Southampton Local Group\, Ibis Southampton Centre Hotel\, Suite\, 9 W Quay Rd\, Southampton\, Lymington\, SO15 1RA\, United Kingdom
CATEGORIES:Patient Meetings
END:VEVENT
BEGIN:VEVENT
DTSTART;TZID=Europe/London:20190612T103000
DTEND;TZID=Europe/London:20190612T124500
DTSTAMP:20260422T233818
CREATED:20190520T134002Z
LAST-MODIFIED:20190520T134130Z
UID:18976-1560335400-1560343500@mdspatientsupport.org.uk
SUMMARY:Essex MDS UK Local Patient Meeting – 12/06/19
DESCRIPTION:GREATER LONDON SUPPORT GROUP MEETINGS\nPATIENTS & FAMILIES LOCAL SUPPORT GROUP MEETINGS FOR THOSE AFFECTED BY MDS-AA–AML\nPatients and families are invited to attend the Myelodysplastic Syndromes & Aplastic Anaemia & Acute Myeloid Leukaemia local support group meetings for the London area at King’s College Hospital London. \nThis is a greater London specific meeting. You do not need to be a King’s patient to attend. \nCome and talk to other patients and clinical staff\, get new information or help. \nMeetings are held after KCH clinics. \nTime: Monday 8th of July 3.30-6.30\nLocation: King’s College Hospital\, Cicely Saunders Building\, by Macmillan Information Unit \nThe group is supported and attended by AA & MDS Clinical Nurse Specialists: Simon Slade (AA)\, Geke Ong (MDS) and Janet Hayden (MDS).  \nIf you can\, please tell us if you are coming – this will help us to plan refreshments. \nSuggestions for talk topics welcome - this is YOUR group! \nLiving somewhere else? Have a look at all MDS UK local groups \nMDS UK Main Office:\n0207 733 7558\nadmin1@mdspatientsupport.org.uk
URL:https://mdspatientsupport.org.uk/event/essex-mds-uk-local-patient-meeting-12-06-19/
LOCATION:Essex Local Group\, Broomfield Village Hall\, 158 Main Road\, Broomfield\, Chelmsford\, CM1 7AH\, United Kingdom
CATEGORIES:Patient Meetings
END:VEVENT
END:VCALENDAR